BEGIN:VCALENDAR
VERSION:2.0
PRODID:-//Pigments Ciné-concerts - ECPv6.2.4//NONSGML v1.0//EN
CALSCALE:GREGORIAN
METHOD:PUBLISH
X-WR-CALNAME:Pigments Ciné-concerts
X-ORIGINAL-URL:https://pigments.cineconcerts.fr
X-WR-CALDESC:évènements pour Pigments Ciné-concerts
REFRESH-INTERVAL;VALUE=DURATION:PT1H
X-Robots-Tag:noindex
X-PUBLISHED-TTL:PT1H
BEGIN:VTIMEZONE
TZID:Europe/Paris
BEGIN:DAYLIGHT
TZOFFSETFROM:+0100
TZOFFSETTO:+0200
TZNAME:CEST
DTSTART:20240331T010000
END:DAYLIGHT
BEGIN:STANDARD
TZOFFSETFROM:+0200
TZOFFSETTO:+0100
TZNAME:CET
DTSTART:20241027T010000
END:STANDARD
END:VTIMEZONE
BEGIN:VEVENT
DTSTART;TZID=Europe/Paris:20241012T150000
DTEND;TZID=Europe/Paris:20241012T160000
DTSTAMP:20260419T162607
CREATED:20240617T100546Z
LAST-MODIFIED:20240924T075655Z
UID:10000087-1728745200-1728748800@pigments.cineconcerts.fr
SUMMARY:"Contes et Silhouettes"
DESCRIPTION:Musiciens : Jules Fromonteil (Clarinettes) & Corto Falempin (Batterie)
URL:https://pigments.cineconcerts.fr/seance/contes-et-silhouettes-issylesmoulineaux/
LOCATION:Auditorium Issy Les Moulineaux\, Issy Les Moulineaux\, 92130\, France
CATEGORIES:Film d’animation
ATTACH;FMTTYPE=image/png:https://pigments.cineconcerts.fr/wp-content/uploads/2023/11/poucette_01_2-wpp1701371338607.png
END:VEVENT
END:VCALENDAR