BEGIN:VCALENDAR
VERSION:2.0
PRODID:-//Pigments Ciné-concerts - ECPv6.2.4//NONSGML v1.0//EN
CALSCALE:GREGORIAN
METHOD:PUBLISH
X-ORIGINAL-URL:https://pigments.cineconcerts.fr
X-WR-CALDESC:évènements pour Pigments Ciné-concerts
REFRESH-INTERVAL;VALUE=DURATION:PT1H
X-Robots-Tag:noindex
X-PUBLISHED-TTL:PT1H
BEGIN:VTIMEZONE
TZID:Europe/Paris
BEGIN:DAYLIGHT
TZOFFSETFROM:+0100
TZOFFSETTO:+0200
TZNAME:CEST
DTSTART:20240331T010000
END:DAYLIGHT
BEGIN:STANDARD
TZOFFSETFROM:+0200
TZOFFSETTO:+0100
TZNAME:CET
DTSTART:20241027T010000
END:STANDARD
END:VTIMEZONE
BEGIN:VEVENT
DTSTART;TZID=Europe/Paris:20240228T160000
DTEND;TZID=Europe/Paris:20240228T173000
DTSTAMP:20260421T221739
CREATED:20231220T133927Z
LAST-MODIFIED:20231220T133927Z
UID:10000009-1709136000-1709141400@pigments.cineconcerts.fr
SUMMARY:"Contes et Silhouettes"
DESCRIPTION:Séance dans le cadre de la tournée Occitanie en partenariat avec Cinéphilae et l’ADRC \nMusiciens : Joris LUCCHESE (Batterie) & Thomas PERIER (Synthés)
URL:https://pigments.cineconcerts.fr/seance/contes-et-silhouettes-egletons/
LOCATION:Cinéma L’Esplanade\, Egletons\, 19300\, France
CATEGORIES:Film d’animation
ATTACH;FMTTYPE=image/png:https://pigments.cineconcerts.fr/wp-content/uploads/2023/11/poucette_01_2-wpp1701371338607.png
END:VEVENT
END:VCALENDAR