BEGIN:VCALENDAR
VERSION:2.0
PRODID:-//Pigments Ciné-concerts - ECPv6.2.4//NONSGML v1.0//EN
CALSCALE:GREGORIAN
METHOD:PUBLISH
X-ORIGINAL-URL:https://pigments.cineconcerts.fr
X-WR-CALDESC:évènements pour Pigments Ciné-concerts
REFRESH-INTERVAL;VALUE=DURATION:PT1H
X-Robots-Tag:noindex
X-PUBLISHED-TTL:PT1H
BEGIN:VTIMEZONE
TZID:Europe/Paris
BEGIN:DAYLIGHT
TZOFFSETFROM:+0100
TZOFFSETTO:+0200
TZNAME:CEST
DTSTART:20240331T010000
END:DAYLIGHT
BEGIN:STANDARD
TZOFFSETFROM:+0200
TZOFFSETTO:+0100
TZNAME:CET
DTSTART:20241027T010000
END:STANDARD
END:VTIMEZONE
BEGIN:VEVENT
DTSTART;TZID=Europe/Paris:20240225T110000
DTEND;TZID=Europe/Paris:20240225T120000
DTSTAMP:20260424T124349
CREATED:20231220T154958Z
LAST-MODIFIED:20231220T154958Z
UID:10000022-1708858800-1708862400@pigments.cineconcerts.fr
SUMMARY:"La Petite Taupe"
DESCRIPTION:Séance dans le cadre de la tournée régionale Bourgogne Franche-Comté en partenariat avec les CIBFC et l’ADRC \nMusiciens : Jules FROMONTEIL (Clarinettes) & Corto FALEMPIN (Batterie)
URL:https://pigments.cineconcerts.fr/seance/la-petite-taupe-saintjuliendusault/
LOCATION:Cinéma Alain Bashung\, Saint Julien du Sault\, 89330\, France
CATEGORIES:Film d’animation
ATTACH;FMTTYPE=image/jpeg:https://pigments.cineconcerts.fr/wp-content/uploads/2023/11/La-Petite-Taupe-e1701370690902-wpp1701370832281.jpg
END:VEVENT
BEGIN:VEVENT
DTSTART;TZID=Europe/Paris:20240225T143000
DTEND;TZID=Europe/Paris:20240225T153000
DTSTAMP:20260424T124349
CREATED:20231220T133745Z
LAST-MODIFIED:20231220T133745Z
UID:10000008-1708871400-1708875000@pigments.cineconcerts.fr
SUMMARY:"Contes et Silhouettes"
DESCRIPTION:Séance dans le cadre de la tournée Occitanie en partenariat avec Cinéphilae et l’ADRC \nMusiciens : Joris LUCCHESE (Batterie) & Thomas PERIER (Synthés)
URL:https://pigments.cineconcerts.fr/seance/contes-et-silhouettes-castelginest/
LOCATION:Cinéma Le Castelia\, Castelginest\, 31780\, France
CATEGORIES:Film d’animation
ATTACH;FMTTYPE=image/png:https://pigments.cineconcerts.fr/wp-content/uploads/2023/11/poucette_01_2-wpp1701371338607.png
END:VEVENT
END:VCALENDAR