BEGIN:VCALENDAR
VERSION:2.0
PRODID:-//Pigments Ciné-concerts - ECPv6.2.4//NONSGML v1.0//EN
CALSCALE:GREGORIAN
METHOD:PUBLISH
X-WR-CALNAME:Pigments Ciné-concerts
X-ORIGINAL-URL:https://pigments.cineconcerts.fr
X-WR-CALDESC:évènements pour Pigments Ciné-concerts
REFRESH-INTERVAL;VALUE=DURATION:PT1H
X-Robots-Tag:noindex
X-PUBLISHED-TTL:PT1H
BEGIN:VTIMEZONE
TZID:Europe/Paris
BEGIN:DAYLIGHT
TZOFFSETFROM:+0100
TZOFFSETTO:+0200
TZNAME:CEST
DTSTART:20240331T010000
END:DAYLIGHT
BEGIN:STANDARD
TZOFFSETFROM:+0200
TZOFFSETTO:+0100
TZNAME:CET
DTSTART:20241027T010000
END:STANDARD
END:VTIMEZONE
BEGIN:VEVENT
DTSTART;TZID=Europe/Paris:20240313T150000
DTEND;TZID=Europe/Paris:20240313T160000
DTSTAMP:20260421T203421
CREATED:20231220T134052Z
LAST-MODIFIED:20240306T095146Z
UID:10000010-1710342000-1710345600@pigments.cineconcerts.fr
SUMMARY:"Contes et Silhouettes"
DESCRIPTION:Séance dans le cadre de la tournée Occitanie en partenariat avec Cinéphilae et l’ADRC \nMusiciens : Joris LUCCHESE (Batterie) & Thomas PERIER (Synthés)
URL:https://pigments.cineconcerts.fr/seance/contes-et-silhouettes-muret/
LOCATION:Cinéma Véo\, Muret\, 31600\, France
CATEGORIES:Film d’animation
ATTACH;FMTTYPE=image/png:https://pigments.cineconcerts.fr/wp-content/uploads/2023/11/poucette_01_2-wpp1701371338607.png
END:VEVENT
BEGIN:VEVENT
DTSTART;TZID=Europe/Paris:20240320T143000
DTEND;TZID=Europe/Paris:20240320T160000
DTSTAMP:20260421T203421
CREATED:20231220T140216Z
LAST-MODIFIED:20231220T140216Z
UID:10000013-1710945000-1710950400@pigments.cineconcerts.fr
SUMMARY:"Les Aventures du Prince Ahmed"
DESCRIPTION:Musiciens : Arthur GUYARD (Synthés) & Nicolas ALGANS (Trompette)
URL:https://pigments.cineconcerts.fr/seance/les-aventures-du-prince-ahmed/
LOCATION:Centre Culturel Henris Desbals\, TOULOUSE\, 31100\, France
CATEGORIES:Film d’animation
ATTACH;FMTTYPE=image/jpeg:https://pigments.cineconcerts.fr/wp-content/uploads/2023/11/les_aventures_du_prince_ahmed_3-wpp1701371463540.jpeg
END:VEVENT
END:VCALENDAR