BEGIN:VCALENDAR
VERSION:2.0
PRODID:-//Pigments Ciné-concerts - ECPv6.2.4//NONSGML v1.0//EN
CALSCALE:GREGORIAN
METHOD:PUBLISH
X-WR-CALNAME:Pigments Ciné-concerts
X-ORIGINAL-URL:https://pigments.cineconcerts.fr
X-WR-CALDESC:évènements pour Pigments Ciné-concerts
REFRESH-INTERVAL;VALUE=DURATION:PT1H
X-Robots-Tag:noindex
X-PUBLISHED-TTL:PT1H
BEGIN:VTIMEZONE
TZID:Europe/Paris
BEGIN:DAYLIGHT
TZOFFSETFROM:+0100
TZOFFSETTO:+0200
TZNAME:CEST
DTSTART:20240331T010000
END:DAYLIGHT
BEGIN:STANDARD
TZOFFSETFROM:+0200
TZOFFSETTO:+0100
TZNAME:CET
DTSTART:20241027T010000
END:STANDARD
END:VTIMEZONE
BEGIN:VEVENT
DTSTART;TZID=Europe/Paris:20241201T150000
DTEND;TZID=Europe/Paris:20241201T160000
DTSTAMP:20260421T142827
CREATED:20240925T160817Z
LAST-MODIFIED:20240925T160817Z
UID:10000094-1733065200-1733068800@pigments.cineconcerts.fr
SUMMARY:"Au Bonheur des Dames"
DESCRIPTION:Musiciens : Arthur Guyard (Synthés) & Corto Falempin(Batterie) \nSéance en partenariat avec Cinéphilaé et La Cinémathèque de Toulouse\, dans le cadre du Festival Synchro 2024
URL:https://pigments.cineconcerts.fr/seance/au-bonheur-des-dames-auch/
LOCATION:Ciné32\, Auch\, 32000\, France
CATEGORIES:Film Arts & Essais
ATTACH;FMTTYPE=image/jpeg:https://pigments.cineconcerts.fr/wp-content/uploads/2023/11/film-au-bonheur-des-dames-wpp1701292505611.jpg
END:VEVENT
END:VCALENDAR